BEGIN:VCALENDAR
VERSION:2.0
PRODID:-//WBNS - Columbus, OH - ECPv5.6.0//NONSGML v1.0//EN
CALSCALE:GREGORIAN
METHOD:PUBLISH
X-WR-CALNAME:WBNS - Columbus, OH
X-ORIGINAL-URL:https://www.971thefan.com
X-WR-CALDESC:Events for WBNS - Columbus, OH
BEGIN:VTIMEZONE
TZID:America/New_York
BEGIN:DAYLIGHT
TZOFFSETFROM:-0500
TZOFFSETTO:-0400
TZNAME:EDT
DTSTART:20260308T070000
END:DAYLIGHT
BEGIN:STANDARD
TZOFFSETFROM:-0400
TZOFFSETTO:-0500
TZNAME:EST
DTSTART:20261101T060000
END:STANDARD
END:VTIMEZONE
BEGIN:VEVENT
DTSTART;TZID=America/New_York:20260423T190000
DTEND;TZID=America/New_York:20260423T230000
DTSTAMP:20260423T071933
CREATED:20260421T141019Z
LAST-MODIFIED:20260421T142116Z
UID:262526-1776970800-1776985200@www.971thefan.com
SUMMARY:Draft Day Watch Party
DESCRIPTION:Get ready for one of the biggest nights in football with a Draft Watch Party at the Hollywood Casino Columbus Sportsbook this Thursday at 7 PM. \nJoin On The Money’s Scotty Vegas and Dave Biddle as they break down the draft in real time\, offer insight on who’s rising\, who’s falling\, and what picks could shake things up. \nPlus\, they’ll have prizes to give away throughout the night—so come hang out\, talk draft\, and see how the board unfolds with fellow fans. \nMust be 21 or older.  Gambling problem call 1-800-589-9966.
URL:https://www.971thefan.com/event/draft-day-watch-party/
LOCATION:Hollywood Casino\, 200 Georgesville Road \, Columbus\, OH\, 43228\, United States
ATTACH;FMTTYPE=image/png:https://dehayf5mhw1h7.cloudfront.net/wp-content/uploads/sites/2091/2026/04/21141019/hwco_thesportsbook_97-1_1920x1080.png
END:VEVENT
END:VCALENDAR